BEGIN:VCALENDAR
VERSION:2.0
PRODID:-//jEvents 2.0 for Joomla//EN
CALSCALE:GREGORIAN
METHOD:PUBLISH
BEGIN:VEVENT
UID:650d9ae1fb6761d8204f38d54e5e3596
CATEGORIES:Out of State
CREATED:20230831T115241
SUMMARY:Land of Enchantment Fly-in at Albuquerque
LOCATION:Double Eagle II Airport (KAEG)  Albuquerque, NM
DESCRIPTION;ENCODING=QUOTED-PRINTABLE:Fly In!&nbsp;Drive In!&nbsp; Free admission &amp; parking.&nbsp;\n\n\nJoin 
 Albuquerque EAA Chapter 179 for a day of live music, food trucks, static ai
 rcraft displays, aviation exhibitors, builder demos, and activities for the
  whole family. Enter your aircraft for judging. Browse the FlyMart for avia
 tion treasures. Limited camping available.&nbsp; More info and updates at:&
 nbsp;eaa179.org/LOEFI\n\n\n&nbsp;\n\n\nSponsored by the Albuquerque EAA Cha
 pter 179, a 501c3 charitable organization.&nbsp; All proceeds benefit our c
 haritable purposes, primarily aviation scholarships.\n\n\n&nbsp;\n\n\n\n&nb
 sp;\nLand of Enchantment Fly-in\nSeptemebr 23, 2023\nDouble Eagle II Airpor
 t (KAEG)\nAlbuquerque, NM\nHosted by EAA Chapter 179\nFree admission &amp; 
 parking\nAircraft Displays &amp; Judging\nFood Trucks\nLive Bands\nCar Club
 s\nYouth Activities\nExhibitors\n\n\n&nbsp;\n\n\n\n\n\n\n
CONTACT:Mike Paxson This email address is being protected from spambots. You need JavaScript enabled to view it.
				document.getElementById('cloakf73aa0e3cd9f399256cb05d9f8d2a8d6').innerHTML = '';
				var prefix = '&#109;a' + 'i&#108;' + '&#116;o';
				var path = 'hr' + 'ef' + '=';
				var addyf73aa0e3cd9f399256cb05d9f8d2a8d6 = 'l&#111;&#101;f&#105;' + '&#64;';
				addyf73aa0e3cd9f399256cb05d9f8d2a8d6 = addyf73aa0e3cd9f399256cb05d9f8d2a8d6 + '&#101;&#97;&#97;179' + '&#46;' + '&#111;rg';
				var addy_textf73aa0e3cd9f399256cb05d9f8d2a8d6 = 'l&#111;&#101;f&#105;' + '&#64;' + '&#101;&#97;&#97;179' + '&#46;' + '&#111;rg';document.getElementById('cloakf73aa0e3cd9f399256cb05d9f8d2a8d6').innerHTML += ''+addy_textf73aa0e3cd9f399256cb05d9f8d2a8d6+'';
		
DTSTAMP:20260421T223618Z
DTSTART;TZID=America/Phoenix;VALUE=DATE:20230923
DTEND;TZID=America/Phoenix;VALUE=DATE:20230924
SEQUENCE:0
TRANSP:OPAQUE
END:VEVENT
END:VCALENDAR