BEGIN:VCALENDAR
VERSION:2.0
PRODID:-//jEvents 2.0 for Joomla//EN
CALSCALE:GREGORIAN
METHOD:PUBLISH
BEGIN:VEVENT
UID:08b13568e5b4483e577fdc8c69c6a395
CATEGORIES:Safety
CREATED:20231014T193246
SUMMARY:GA Pilot Winter Prep Virtual Workshop
LOCATION:virtual workshop
DESCRIPTION;ENCODING=QUOTED-PRINTABLE:\n\n\n&nbsp;\nFrom the Flight Deck\nGA Pilot Winter Prep Workshop\nOctober 
 26, 2023\n2-4 PM EDT\n\n\n&nbsp;\n\n\nOn October 26, the FAA will host a vi
 rtual workshop event, From the Flight Deck LIVE: A GA Pilot WinterOn Octobe
 r 26, the FAA will host a virtual workshop event, From the Flight Deck LIVE
 : A GA Pilot Winter Prep Workshop.\n\n\n&nbsp;\n\n\nWHO SHOULD PLAN TO ATTE
 ND?\n\n\nThe FAA invites General Aviation pilots to join this workshop to h
 elp prepare for winter weather and how tooperate safely in changing weather
  conditions. The event will cover tips for preflight, en route and post-fli
 ghtactions and information for General Aviation (GA) pilots as we head into
  the cooler months. WINGS credit willbe offered.\n\n\n&nbsp;\n\n\nWHAT WILL
  I LEARN?\n\n\nDuring this event, FAA GA safety expert Jamal Wilson will fa
 cilitate panel discussions with GA industry reps,pilots, air traffic contro
 llers, labor, meteorologists and others on safety and operational concerns 
 associatedwith General Aviation. The workshop panels will review runway pro
 cedures, provide information to preemptairfield errors, and ultimately focu
 s on lowering the potential for accidents. Topics presented and discussedwi
 ll include:\n\n - Data and Case Studies on GA Operations and Runway Events 
 in Winter\n - Weather Briefing and Pilot Report (PIREPs) Weather\n - Safe A
 irport Operations in Snow and Ice\n - The Runway Condition Assessment Matri
 x (RCAM)\n - Wet Runway Operations and Excursions\n - Ice Buildup, Impacts 
 at Different Altitudes and Updates on FAA Icing Research\n - Winter Surviva
 l Techniques and Emergency Situations\n - Best Practices for Putting Your A
 ircraft to Bed for the Winter\n\n&nbsp;\n\n\nHOW TO PARTICIPATE\n\n\nPlease
  only use the Zoom link if you are interested in receiving WINGS credit. Al
 l other participants should use the YouTube livestream link to attend.\n\n\
 n&nbsp;\n\n\nFor more information, contact This email address is being prot
 ected from spambots. You need JavaScript enabled to view it.
				document.g
 etElementById('cloak4d778c00122e0793851f3ac05c99c3bb').innerHTML = '';
				
 var prefix = '&#109;a' + 'i&#108;' + '&#116;o';
				var path = 'hr' + 'ef' 
 + '=';
				var addy4d778c00122e0793851f3ac05c99c3bb = 'l&#105;v&#101;&#101;
 v&#101;nts' + '&#64;';
				addy4d778c00122e0793851f3ac05c99c3bb = addy4d778
 c00122e0793851f3ac05c99c3bb + 'f&#97;&#97;' + '&#46;' + 'g&#111;v';
				var
  addy_text4d778c00122e0793851f3ac05c99c3bb = 'l&#105;v&#101;&#101;v&#101;nt
 s' + '&#64;' + 'f&#97;&#97;' + '&#46;' + 'g&#111;v';document.getElementById
 ('cloak4d778c00122e0793851f3ac05c99c3bb').innerHTML += ''+addy_text4d778c00
 122e0793851f3ac05c99c3bb+'';
		.\n
CONTACT:This email address is being protected from spambots. You need JavaScript enabled to view it.
				document.getElementById('cloak9fbc143b18fbde10f3cba170e4145da7').innerHTML = '';
				var prefix = '&#109;a' + 'i&#108;' + '&#116;o';
				var path = 'hr' + 'ef' + '=';
				var addy9fbc143b18fbde10f3cba170e4145da7 = 'l&#105;v&#101;&#101;v&#101;nts' + '&#64;';
				addy9fbc143b18fbde10f3cba170e4145da7 = addy9fbc143b18fbde10f3cba170e4145da7 + 'f&#97;&#97;' + '&#46;' + 'g&#111;v';
				var addy_text9fbc143b18fbde10f3cba170e4145da7 = 'l&#105;v&#101;&#101;v&#101;nts' + '&#64;' + 'f&#97;&#97;' + '&#46;' + 'g&#111;v';document.getElementById('cloak9fbc143b18fbde10f3cba170e4145da7').innerHTML += ''+addy_text9fbc143b18fbde10f3cba170e4145da7+'';
		
DTSTAMP:20260422T060621Z
DTSTART;TZID=America/Phoenix:20231026T140000
DTEND;TZID=America/Phoenix:20231026T160000
SEQUENCE:0
TRANSP:OPAQUE
END:VEVENT
END:VCALENDAR