BEGIN:VCALENDAR
VERSION:2.0
PRODID:-//jEvents 2.0 for Joomla//EN
CALSCALE:GREGORIAN
METHOD:PUBLISH
BEGIN:VEVENT
UID:cd0c70acbcadbcca97e308ef7de2da49
CATEGORIES:Other Fly-In
CREATED:20231014T200201
SUMMARY:City of Deming Municipal Airport  FLY-IN
LOCATION:310 Airport Road, Deming, NM 88030
DESCRIPTION;ENCODING=QUOTED-PRINTABLE:\n\nWe warmly invite you to the Fly-In event in Deming, NM!\n\n\nSavor the 
 state's finest Mexican cuisine at our local eateries, try your hand at the 
 Rio Mimbres Golf Course, or enjoy some family fun at the City of Deming's i
 nflatable water park! Welcoming baskets will include gift cards to local re
 staurants and if your one of the lucky few your gift bag will include a fre
 e round of golf at the Rio Mimbres Country Club golf course.&nbsp;\n\n\nBoo
 k your stay at the conveniently located Holiday Inn Deming near the airport
  and golf course. Don't forget to mention your participation in the Fly-In 
 to for a special room rate of just $117.99! The address is 3801 E Cedar St,
  Deming, NM 88030 and you can reach them at 575-545-6500.\n\n\nAnd there's 
 more! Every pilot participant can win a gift basket filled with local goodi
 es, courtesy of Deming Luna County Economic Development.\n\n\nAs a bonus, e
 njoy a $1.00 discount on fuel.\n\n\nCurrently fuel is at $6.80\n\n\nDeming 
 eagerly awaits your arrival. We're excited to see you there!\n\n\nPilot Reg
 istration at the link&nbsp;https://forms.office.com/Pages/ResponsePage.aspx
 ?id=9GuqBDbUb0K_pAS3pw5g_7mQd2b1fENMtGAwv7AKZSxUOE5VUjdSVURWWUlPOEQzSDMxVzA
 wUU9ZRy4u\n\n\n&nbsp;\n\n\n&nbsp;\n\n\n\n\n\n&nbsp;\n\n\nCity of Deming Mun
 icipal Airport\n\n\nFLY-IN\n\n\nFly with the Young Eagles!\n\n\nJoin us on 
 the tarmac for an exciting aviation day. EAA Young Eagles program is aimed 
 to introduce aviation to kids through experience.\n\n\nDate: October 28, 20
 23\n\n\nTime: 8 am - 12 pm\n\n\n310 Airport Road, Deming, NM 88030\n\n\nNot
 e: All flights are weather permitting and subject to pilot availability.\n\
 n\nWhat's Happening?\n\n - Get a chance to fly with the Young Eagles\n - En
 joy a free lunch\n - Meet and mingle with aviation enthusiasts and professi
 onals\n\nWhat to Take a Ride?\n\n - Free airplane rides for kids aged 8-17 
 years\n - To take a flight, you must register and sign a waiver\n - This is
  a unique opportunity to experience the thrill fo aviation!\n\nFree Entry\n
 \n\nVenders will be onsite\n\n\nFor more information: 575-546-8848\n\n\nwww
 .cityofdeming.org\n
CONTACT:575-546-8848  www.cityofdeming.org
DTSTAMP:20260422T013109Z
DTSTART;TZID=America/Phoenix:20231028T080000
DTEND;TZID=America/Phoenix:20231028T120000
SEQUENCE:0
TRANSP:OPAQUE
END:VEVENT
END:VCALENDAR