BEGIN:VCALENDAR
VERSION:2.0
PRODID:-//jEvents 2.0 for Joomla//EN
CALSCALE:GREGORIAN
METHOD:PUBLISH
BEGIN:VEVENT
UID:173ec1cd5af5abfc1a1a394557d0eaa0
CATEGORIES:Other Fly-In
CREATED:20240307T142823
SUMMARY:Tombstone Pancake Breakfast Fly-in
LOCATION:3 miles SE of TOMBSTONE, AZ, Tombstone, AZ, United States, Arizona
DESCRIPTION;ENCODING=QUOTED-PRINTABLE:\n\n\n\n\nPancake Breakfast Fly-In\n\n\nBreakfast Fly-In for all pilots and
  guests. Donations requested for food. Roy Jones will be the host and offer
 ing great pricing on fuel. Come out and have a great time. Courtesy car ava
 ilable for pilots to run into town.\n\n\n&nbsp;\n\n\nDate &amp; Time\n\n\nS
 at Mar 23 2024 at 07:30 am to 12:00 pm&nbsp;(GMT-07:00)\n\n\n&nbsp;\n\n\nLo
 cation\n\n\n3 miles SE of TOMBSTONE, AZ, Tombstone, AZ, United States, Ariz
 ona\n
DTSTAMP:20260419T153416Z
DTSTART;TZID=America/Phoenix:20240323T073000
DTEND;TZID=America/Phoenix:20240323T120000
SEQUENCE:0
TRANSP:OPAQUE
END:VEVENT
END:VCALENDAR