BEGIN:VCALENDAR
VERSION:2.0
PRODID:-//jEvents 2.0 for Joomla//EN
CALSCALE:GREGORIAN
METHOD:PUBLISH
BEGIN:VEVENT
UID:e1114e0ce625f356d02341e4cd184632
CATEGORIES:Backcountry
CREATED:20240829T115244
SUMMARY:Grapevine Monthly Camping Weekend
LOCATION:Grapevine (AZ88) near Roosevelt Lake
DESCRIPTION;ENCODING=QUOTED-PRINTABLE:\n&nbsp;\n&nbsp;\nThe camp host for this month is:\n~ Tommy Thomason ~\n\n\
 nFriday night: Camp out under the stars!\n\n\nSaturday Night: &nbsp;Join us
  to camp under the stars and tell stories around the group campfire!&nbsp;C
 amp host will prepare the main course. Campers, please bring&nbsp;a side di
 sh or dessert to share.&nbsp;\n\n\nSunday: Most folks depart by noon\nATTN:
  Please, no motor vehicles, other than APA and USFS support vehicles, are p
 ermitted past the gate at the highway. This is a closed area and only aircr
 aft access is allowed. Help us keep our commitment to the USFS!\n\n\nThe Ar
 izona Pilots Association has done an incredible job saving and rehabilitati
 ng Grapevine Airstrip (88AZ).&nbsp; Located on the south shore of Roosevelt
  Lake, the approach to runway 17 is beautiful.&nbsp; It gives the boaters o
 n the lake a close-up view of many different aircraft as they land on the f
 antastic asphalt runway.&nbsp; At 3,800 feet long, this allows most aircraf
 t to check it out.&nbsp;\n\n\nI am here to invite those interested to enjoy
  the backcountry flying, camping, and great camaraderie.&nbsp; On the third
  Saturday of the month from October to April, Grapevine has a hosted weeken
 d fly in and camping.&nbsp; Although not everyone is able to come in on Fri
 day, there are a few of us that wouldn’t miss it.&nbsp; I am glad to tell t
 he Friday crowd that the restaurant in Roosevelt is open again and under ne
 w management.\n\n\nOn Saturday, there are plenty of members and non-members
  that fly in and love to talk planes, airstrips, and other exciting adventu
 res!&nbsp; I want to encourage everyone to come out and join us.&nbsp; Watc
 h out for Mike Andresen, there is always something to clean up or work on, 
 and the Grapevine airstrip is maintained only though donations and voluntee
 r help.\n\n\nAlso, why not stay overnight?&nbsp; The weekend host(s) will p
 rovide the dinner’s main meal and the sides are brought by the other camper
 s.&nbsp; This results in a fantastic, scrumptious, heavenly, yummy, lusciou
 s, divine, tasty, mouth-watering meal with beautiful scenery and wonderful 
 sunsets.&nbsp; In September, Jupiter was rising over the eastern mountain r
 ange, competing with Venus in the western sky.\n\n\nThere will be some addi
 tions to the weekend.&nbsp; Coming this year, we will have corn hole compet
 itions and other fun activities.&nbsp; Also, how good are you at making a p
 aper airplane?&nbsp; Will it fly?&nbsp; How well will it fly?&nbsp;&nbsp; W
 on’t you come and join us?&nbsp; Want to be a host?&nbsp; I’ve had many oth
 er suggestions, but I would love to hear from you, too.\n\n\nThis email add
 ress is being protected from spambots. You need JavaScript enabled to view 
 it.
				document.getElementById('cloakcce5ffc475d191829d763bc8eb0b5cd5').in
 nerHTML = '';
				var prefix = '&#109;a' + 'i&#108;' + '&#116;o';
				var p
 ath = 'hr' + 'ef' + '=';
				var addycce5ffc475d191829d763bc8eb0b5cd5 = 'l&
 #101;&#97;nn&#101;' + '&#64;';
				addycce5ffc475d191829d763bc8eb0b5cd5 = a
 ddycce5ffc475d191829d763bc8eb0b5cd5 + '&#97;zp&#105;l&#111;ts' + '&#46;' + 
 '&#111;rg?s&#117;bj&#101;ct=Gr&#97;p&#101;v&#105;n&#101;';
				var addy_tex
 tcce5ffc475d191829d763bc8eb0b5cd5 = 'L&#101;&#97;nn&#101;';document.getElem
 entById('cloakcce5ffc475d191829d763bc8eb0b5cd5').innerHTML += ''+addy_textc
 ce5ffc475d191829d763bc8eb0b5cd5+'';
		\n\n\n&nbsp;\n\n\n\n\nAs always,\nFre
 e Airplane Parking\nFree Camping\nHiking\nPlenty of Sunshine\nVault Toilet\
 n&nbsp;&nbsp;&nbsp;Grapevine is open full time now, but the third Saturday 
 of each month is a special time for a group camp dinner on Saturday evening
 . Come and camp for the weekend!\n&nbsp;\nClick here for the GRAPEVINE SAFE
 TY BULLETIN\n&nbsp;\nPlease email This email address is being protected fro
 m spambots. You need JavaScript enabled to view it.
				document.getElement
 ById('cloak76b23d3f8d1a0b353fffcefad9ffd9f0').innerHTML = '';
				var prefi
 x = '&#109;a' + 'i&#108;' + '&#116;o';
				var path = 'hr' + 'ef' + '=';
		
 		var addy76b23d3f8d1a0b353fffcefad9ffd9f0 = 'l&#101;&#97;nn&#101;' + '&#64
 ;';
				addy76b23d3f8d1a0b353fffcefad9ffd9f0 = addy76b23d3f8d1a0b353fffcefa
 d9ffd9f0 + '&#97;zp&#105;l&#111;ts' + '&#46;' + '&#111;rg?s&#117;bj&#101;ct
 =Gr&#97;p&#101;v&#105;n&#101;%20V&#111;l&#117;nt&#101;&#101;r';
				var add
 y_text76b23d3f8d1a0b353fffcefad9ffd9f0 = 'L&#101;&#97;nn&#101;';document.ge
 tElementById('cloak76b23d3f8d1a0b353fffcefad9ffd9f0').innerHTML += ''+addy_
 text76b23d3f8d1a0b353fffcefad9ffd9f0+'';
		&nbsp;for more info or if you ar
 e interested in volunteering.\n&nbsp;\n\n\n\n\n\n\n\n\n\n\n\n&nbsp;\n
CONTACT:Leanne - This email address is being protected from spambots. You need JavaScript enabled to view it.
				document.getElementById('cloakb669fd15a19efbe2fb6cba60ec2df036').innerHTML = '';
				var prefix = '&#109;a' + 'i&#108;' + '&#116;o';
				var path = 'hr' + 'ef' + '=';
				var addyb669fd15a19efbe2fb6cba60ec2df036 = 'l&#101;&#97;nn&#101;' + '&#64;';
				addyb669fd15a19efbe2fb6cba60ec2df036 = addyb669fd15a19efbe2fb6cba60ec2df036 + '&#97;zp&#105;l&#111;ts' + '&#46;' + '&#111;rg';
				var addy_textb669fd15a19efbe2fb6cba60ec2df036 = 'l&#101;&#97;nn&#101;' + '&#64;' + '&#97;zp&#105;l&#111;ts' + '&#46;' + '&#111;rg';document.getElementById('cloakb669fd15a19efbe2fb6cba60ec2df036').innerHTML += ''+addy_textb669fd15a19efbe2fb6cba60ec2df036+'';
		
DTSTAMP:20260422T024815Z
DTSTART;TZID=America/Phoenix;VALUE=DATE:20250117
DTEND;TZID=America/Phoenix;VALUE=DATE:20250120
SEQUENCE:0
TRANSP:OPAQUE
END:VEVENT
END:VCALENDAR