BEGIN:VCALENDAR
VERSION:2.0
PRODID:-//jEvents 2.0 for Joomla//EN
CALSCALE:GREGORIAN
METHOD:PUBLISH
BEGIN:VEVENT
UID:7672cb36002d6395f959b7e2dbce8e25
CATEGORIES:Safety
CREATED:20241002T121311
SUMMARY:EAA Chapter 1445 Monthly VMC Club Meeting
LOCATION:Chandler Municipal Airport Terminal Meeting Room 2380 S Stinson Way Chandle
 r, AZ 85286
DESCRIPTION;ENCODING=QUOTED-PRINTABLE:EAA Chapter 1445 Monthly VMC Club Meeting - All Pilots Welcome1 Hour Meetin
 g on How to Adjust Final Approach Speed for Aircraft WeightDate and Time: T
 uesday, November 5, 2024, starting at 18:30 ArizonaSpeaker(s): Craig Albrig
 htBrief Description:Special Guest Craig Albright will discuss, "How to adju
 st Final Approach Speed for Aircraft Weight".\nAs student pilots, our instr
 uctors coached us on landing speeds appropriate for the training aircraft.&
 nbsp; But, landing close to Maximum Gross Weight (MGW) vs. solo with only p
 artial fuel results in different performance.&nbsp; Now that we're pilots a
 nd don't have an instructor "whispering" in our ears, how can we safely adj
 ust our landing speed?\nThe EAA VMC Club provides a "hangar flying" experie
 nce organized around visual&nbsp;flight, in order to promote safety, educat
 ion, and proficiency.\nEvery meeting consists of a scenario presentation an
 d group discussion about unusual or interesting charts, changed rules and&n
 bsp;procedures, and&nbsp;member experiences. &nbsp;We also have&nbsp;occasi
 onal guest speakers.\nBring your EFB, your experience, and your questions, 
 and be ready to participate.\nAll are welcome. &nbsp;You do not need to be 
 an EAA member to attend\nWe will also be discussing how you can earn&nbsp;W
 INGS&nbsp;Credit.\nSelect Number: WP07132995Location of Seminar:Chandler Mu
 nicipal Airport Terminal Meeting Room\n2380 S Stinson Way\nChandler, AZ&nbs
 p;85286Directions to Venue:\n\nPark in front of the main terminal building.
  Entrance to the meeting room is from the outside on the left side of the m
 ain terminal door.\n&nbsp;\n\n\nFrom the ramp, entrance is through the main
  terminal doors. Meeting room door is on the far right side of the lobby.&n
 bsp;\nView MapFly-in Seminar?: Yes&nbsp;&nbsp;KCHDSeating: 80 seats at the 
 facilityRegistration Information:&nbsp;Click here to register online now!Sp
 onsoring Division: FAA Safety TeamContact Information:Alexander Peña\nPhone
 : 4808868470\nThis email address is being protected from spambots. You need
  JavaScript enabled to view it.
				document.getElementById('cloak5d70a2eb8
 0ac1d7ee0171838ae92fd3d').innerHTML = '';
				var prefix = '&#109;a' + 'i&#
 108;' + '&#116;o';
				var path = 'hr' + 'ef' + '=';
				var addy5d70a2eb80
 ac1d7ee0171838ae92fd3d = '&#97;l&#101;x&#97;nd&#101;rp&#101;n&#97;' + '&#64
 ;';
				addy5d70a2eb80ac1d7ee0171838ae92fd3d = addy5d70a2eb80ac1d7ee0171838
 ae92fd3d + 'm&#97;c' + '&#46;' + 'c&#111;m';
				var addy_text5d70a2eb80ac1
 d7ee0171838ae92fd3d = '&#97;l&#101;x&#97;nd&#101;rp&#101;n&#97;' + '&#64;' 
 + 'm&#97;c' + '&#46;' + 'c&#111;m';document.getElementById('cloak5d70a2eb80
 ac1d7ee0171838ae92fd3d').innerHTML += ''+addy_text5d70a2eb80ac1d7ee0171838a
 e92fd3d+'';
		Additional Event Information &amp; Acknowledgement of Industr
 y Sponsor(s):Note:IMC Meeting immediately follows the VMC presentation and 
 requires separate registration.\nPlease use the following link to register\
 nIMC Registration Link\nThis event is sponsored and hosted by the&nbsp;Loca
 l EAA/VMC Club and the FAA Safety Team.\nThank you to the City of Chandler 
 and Chandler Municipal Airport for their support and use of the terminal me
 eting room.\nThank you to the Arizona Pilots Association\nWhat is the EAA/V
 MC Club?&nbsp;\nEAA provides monthly program resources in the form of actua
 l VMC related scenarios designed to encourage open discussion, and for all 
 participants to answer the question “What would you do if this happened to 
 you?”&nbsp;\nWhat is the purpose of EAA/VMC Club?\nThe purpose of EAA Visua
 l Meteorological Conditions (VMC) Clubs is to promote flying, proficiency, 
 and safety. The intent is to create a community of pilots willing to share 
 information, provide recognition, foster communications, promote safety, an
 d build proficiency in&nbsp;flying.\nEAA VMC Clubs are extensions to local 
 EAA chapters and offer monthly VMC program meetings where pilots can networ
 k and share knowledge and experiences.&nbsp;\nDo you need to bring anything
 ?\nFirst, bring your thoughts or story and be willing to share them with th
 e group. &nbsp;This meeting is very interactive. &nbsp;Participation by the
  group is a&nbsp;fundamental&nbsp;element to the EAA/VMC Club meeting.\nOth
 ers have found it helpful to bring along a copy of their flight manual, GPS
  manual, and charts. &nbsp;If you navigate with an iPad, bring it along.\nW
 ho can attend?\nThis meeting is open to all current, non-current, and futur
 e&nbsp;pilots.\nClick here for more information about EAA VMC Clubs.\nEqual
  Access Information:The FAA Safety Team (FAASTeam) is committed to providin
 g equal access to this meeting/event for all participants. If you need alte
 rnative formats or services because of a disability, please communicate you
 r request as soon as possible with the person in the “Contact Information” 
 area of the meeting/event notice. Note that two weeks is usually required t
 o arrange services.Credit Applicability:1 Credit for Basic Knowledge Topic 
 2
CONTACT:Alexander Peña Phone: 4808868470 This email address is being protected from spambots. You need JavaScript enabled to view it.
				document.getElementById('cloakc497fab55bbb5cd70a2303b63e8b7675').innerHTML = '';
				var prefix = '&#109;a' + 'i&#108;' + '&#116;o';
				var path = 'hr' + 'ef' + '=';
				var addyc497fab55bbb5cd70a2303b63e8b7675 = '&#97;l&#101;x&#97;nd&#101;rp&#101;n&#97;' + '&#64;';
				addyc497fab55bbb5cd70a2303b63e8b7675 = addyc497fab55bbb5cd70a2303b63e8b7675 + 'm&#97;c' + '&#46;' + 'c&#111;m';
				var addy_textc497fab55bbb5cd70a2303b63e8b7675 = '&#97;l&#101;x&#97;nd&#101;rp&#101;n&#97;' + '&#64;' + 'm&#97;c' + '&#46;' + 'c&#111;m';document.getElementById('cloakc497fab55bbb5cd70a2303b63e8b7675').innerHTML += ''+addy_textc497fab55bbb5cd70a2303b63e8b7675+'';
		
DTSTAMP:20260421T143033Z
DTSTART;TZID=America/Phoenix:20241105T183000
SEQUENCE:0
TRANSP:OPAQUE
END:VEVENT
END:VCALENDAR