BEGIN:VCALENDAR
VERSION:2.0
PRODID:-//jEvents 2.0 for Joomla//EN
CALSCALE:GREGORIAN
METHOD:PUBLISH
BEGIN:VEVENT
UID:10a0c5298dba09a1534b1757ec1b4638
CATEGORIES:Backcountry
CREATED:20250809T094203
SUMMARY:Grapevine Monthly Camping Weekend
LOCATION:Grapevine (AZ88) near Roosevelt Lake
DESCRIPTION;ENCODING=QUOTED-PRINTABLE:\n&nbsp;\n&nbsp;\nThe camp host for this month is:\n~ Brian Harrison and hi
 s Wife ~\n\n\nFriday night: Camp out under the stars!\n\n\nSaturday Night: 
 &nbsp;Join us to camp under the stars and tell stories around the group cam
 pfire!&nbsp;Camp host will prepare the main course. Campers, please bring&n
 bsp;a side dish or dessert to share.&nbsp;\n\n\nSunday: Most folks depart b
 y noon\nATTN: Please, no motor vehicles, other than APA and USFS support ve
 hicles, are permitted past the gate at the highway. This is a closed area a
 nd only aircraft access is allowed. Help us keep our commitment to the USFS
 !\n\n\nThe Arizona Pilots Association has done an incredible job saving and
  rehabilitating Grapevine Airstrip (88AZ).&nbsp; Located on the south shore
  of Roosevelt Lake, the approach to runway 17 is beautiful.&nbsp; It gives 
 the boaters on the lake a close-up view of many different aircraft as they 
 land on the fantastic asphalt runway.&nbsp; At 3,800 feet long, this allows
  most aircraft to check it out.&nbsp;\n\n\nI am here to invite those intere
 sted to enjoy the backcountry flying, camping, and great camaraderie.&nbsp;
  On the third Saturday of the month from October to April, Grapevine has a 
 hosted weekend fly in and camping.&nbsp; Although not everyone is able to c
 ome in on Friday, there are a few of us that wouldn’t miss it.&nbsp; I am g
 lad to tell the Friday crowd that the restaurant in Roosevelt is open again
  and under new management.\n\n\nOn Saturday, there are plenty of members an
 d non-members that fly in and love to talk planes, airstrips, and other exc
 iting adventures!&nbsp; I want to encourage everyone to come out and join u
 s.&nbsp; Watch out for Mike Andresen, there is always something to clean up
  or work on, and the Grapevine airstrip is maintained only though donations
  and volunteer help.\n\n\nAlso, why not stay overnight?&nbsp; The weekend h
 ost(s) will provide the dinner’s main meal and the sides are brought by the
  other campers.&nbsp; This results in a fantastic, scrumptious, heavenly, y
 ummy, luscious, divine, tasty, mouth-watering meal with beautiful scenery a
 nd wonderful sunsets.&nbsp; In September, Jupiter was rising over the easte
 rn mountain range, competing with Venus in the western sky.\n\n\nThere will
  be some additions to the weekend.&nbsp; Coming this year, we will have cor
 n hole competitions and other fun activities.&nbsp; Also, how good are you 
 at making a paper airplane?&nbsp; Will it fly?&nbsp; How well will it fly?&
 nbsp;&nbsp; Won’t you come and join us?&nbsp; Want to be a host?&nbsp; I’ve
  had many other suggestions, but I would love to hear from you, too.\n\n\nT
 his email address is being protected from spambots. You need JavaScript ena
 bled to view it.
				document.getElementById('cloak88be16406fa151208c111a80
 a7c062d2').innerHTML = '';
				var prefix = '&#109;a' + 'i&#108;' + '&#116;
 o';
				var path = 'hr' + 'ef' + '=';
				var addy88be16406fa151208c111a80a
 7c062d2 = 'l&#101;&#97;nn&#101;' + '&#64;';
				addy88be16406fa151208c111a8
 0a7c062d2 = addy88be16406fa151208c111a80a7c062d2 + '&#97;zp&#105;l&#111;ts'
  + '&#46;' + '&#111;rg?s&#117;bj&#101;ct=Gr&#97;p&#101;v&#105;n&#101;';
			
 	var addy_text88be16406fa151208c111a80a7c062d2 = 'L&#101;&#97;nn&#101;';doc
 ument.getElementById('cloak88be16406fa151208c111a80a7c062d2').innerHTML += 
 ''+addy_text88be16406fa151208c111a80a7c062d2+'';
		\n\n\n&nbsp;\n\n\n\n\nAs
  always,\nFree Airplane Parking\nFree Camping\nHiking\nPlenty of Sunshine\n
 Vault Toilet\n&nbsp;&nbsp;&nbsp;Grapevine is open full time now, but the th
 ird Saturday of each month is a special time for a group camp dinner on Sat
 urday evening. Come and camp for the weekend!\n&nbsp;\nClick here for the G
 RAPEVINE SAFETY BULLETIN\n&nbsp;\nPlease email This email address is being 
 protected from spambots. You need JavaScript enabled to view it.
				docume
 nt.getElementById('cloak1c206cd4019ac7d36c554806236ba7b4').innerHTML = '';

 				var prefix = '&#109;a' + 'i&#108;' + '&#116;o';
				var path = 'hr' + '
 ef' + '=';
				var addy1c206cd4019ac7d36c554806236ba7b4 = 'l&#101;&#97;nn&#
 101;' + '&#64;';
				addy1c206cd4019ac7d36c554806236ba7b4 = addy1c206cd4019
 ac7d36c554806236ba7b4 + '&#97;zp&#105;l&#111;ts' + '&#46;' + '&#111;rg?s&#1
 17;bj&#101;ct=Gr&#97;p&#101;v&#105;n&#101;%20V&#111;l&#117;nt&#101;&#101;r'
 ;
				var addy_text1c206cd4019ac7d36c554806236ba7b4 = 'L&#101;&#97;nn&#101;
 ';document.getElementById('cloak1c206cd4019ac7d36c554806236ba7b4').innerHTM
 L += ''+addy_text1c206cd4019ac7d36c554806236ba7b4+'';
		&nbsp;for more info
  or if you are interested in volunteering.\n&nbsp;\n\n\n\n\n\n\n\n\n\n\n\n&
 nbsp;\n
CONTACT:Leanne - This email address is being protected from spambots. You need JavaScript enabled to view it.
				document.getElementById('cloak6045a906144a8dafd5084609307250cb').innerHTML = '';
				var prefix = '&#109;a' + 'i&#108;' + '&#116;o';
				var path = 'hr' + 'ef' + '=';
				var addy6045a906144a8dafd5084609307250cb = 'l&#101;&#97;nn&#101;' + '&#64;';
				addy6045a906144a8dafd5084609307250cb = addy6045a906144a8dafd5084609307250cb + '&#97;zp&#105;l&#111;ts' + '&#46;' + '&#111;rg';
				var addy_text6045a906144a8dafd5084609307250cb = 'l&#101;&#97;nn&#101;' + '&#64;' + '&#97;zp&#105;l&#111;ts' + '&#46;' + '&#111;rg';document.getElementById('cloak6045a906144a8dafd5084609307250cb').innerHTML += ''+addy_text6045a906144a8dafd5084609307250cb+'';
		
DTSTAMP:20260423T013928Z
DTSTART;TZID=America/Phoenix;VALUE=DATE:20251121
DTEND;TZID=America/Phoenix;VALUE=DATE:20251124
SEQUENCE:0
TRANSP:OPAQUE
END:VEVENT
END:VCALENDAR