BEGIN:VCALENDAR
VERSION:2.0
PRODID:-//jEvents 2.0 for Joomla//EN
CALSCALE:GREGORIAN
METHOD:PUBLISH
BEGIN:VEVENT
UID:f0802ccac404aa1899544278fb962e15
CATEGORIES:Safety
CREATED:20250910T083714
SUMMARY:The WINGS Program and Avoiding Controlled Flight Into Terrain at Prescott
LOCATION:Embry Riddle Aeronautical Univ., Davis Learning Center (DLC) 3700 Willow Cr
 eek Rd. Bldg. 20 Prescott, AZ 86301
DESCRIPTION;ENCODING=QUOTED-PRINTABLE:The WINGS Program and Avoiding Controlled Flight Into TerrainWINGS - The Pi
 lot Proficiency and FAA Compliance Program and Avoiding Controlled Flight I
 nto TerrainDate and Time: Thursday, September 25, 2025, starting at 18:00 A
 rizonaSpeaker(s): Brian Roggo, Cary Grant, Brent CrowBrief Description:This
  two hour seminar will present the details of the WINGS program and how pil
 ots can participate. The benefits of participating will be highlighted and 
 attendees will gain an understanding of how to use faasafety.gov to facilit
 ate participation. The presentation will also show CFIs how to provide and 
 validate activity credit.&nbsp;The second half of the evening will concentr
 ate on avoiding the errors pilots make that lead to controlled flight into 
 terrain accidents.\nSelect Number: WP07139281Location of Seminar:Embry Ridd
 le Aeronautical Univ., Davis Learning Center (DLC)\n3700 Willow Creek Rd.\n
 Bldg. 20\nPrescott, AZ&nbsp;86301Directions to Venue:\n\n***Entering at Dan
  Carrell Dr.*** Enter the ERAU campus from Willow Creek Rd. at the intersec
 tion of Dan Carrell Dr. and Heritage Park Rd.. At the round-about, exit at 
 the first opportunity - north on Dobberteen Dr.. The Davis Learning Center 
 (DLC), building 20, is on the left side, about .1 miles from the round-abou
 t.\n\n\n***Entering at Haas Blvd.*** Enter the ERAU campus from Willow Cree
 k Rd., northernmost entrance, on Haas Blvd. At the first four-way intersect
 ion, turn left on Dobberteen Dr. The DLC, building 20, is on the right side
 , about .1 miles from the intersection.&nbsp; Parking is primarily in Lot G
 , with secondary parking options in Lots E and F.\nView MapFly-in Seminar?:
  NoSeating: 396 seats at the facilityRegistration Information:&nbsp;Click h
 ere to register online now!Sponsoring Division: Scottsdale FAASTeamContact 
 Information:Cary B. Grant\nPhone: 602-705-6605\nThis email address is being
  protected from spambots. You need JavaScript enabled to view it.
				docum
 ent.getElementById('cloakc1ae0638ba7b570d1869e505e93f0f86').innerHTML = '';
 
				var prefix = '&#109;a' + 'i&#108;' + '&#116;o';
				var path = 'hr' + 
 'ef' + '=';
				var addyc1ae0638ba7b570d1869e505e93f0f86 = 'gr&#97;ntc3' + 
 '&#64;';
				addyc1ae0638ba7b570d1869e505e93f0f86 = addyc1ae0638ba7b570d186
 9e505e93f0f86 + '&#101;r&#97;&#117;' + '&#46;' + '&#101;d&#117;';
				var a
 ddy_textc1ae0638ba7b570d1869e505e93f0f86 = 'gr&#97;ntc3' + '&#64;' + '&#101
 ;r&#97;&#117;' + '&#46;' + '&#101;d&#117;';document.getElementById('cloakc1
 ae0638ba7b570d1869e505e93f0f86').innerHTML += ''+addy_textc1ae0638ba7b570d1
 869e505e93f0f86+'';
		Additional Event Information &amp; Acknowledgement of
  Industry Sponsor(s):Speakers:&nbsp; Brian Roggo, ERAU Dean of the College 
 of Aviation,\nCary Grant, ERAU Associate Professor of Aeronautical Science,
  President ASAG,\nBrent Crow, CAE Global Head of Ab-Initia Safety, Civil Av
 iation Training Service\nCraig Tompkins and Ernie Copeland, Scottsdale FSDO
  FAA Safety Team Program Managers.\nPlease bring a tablet or laptop to foll
 ow along on account creation and data inputs. Pilot Proficiency Program is 
 to reduce the number of accidents in General Aviation (GA) by assisting air
 men to find educational opportunities designed to help them apply the princ
 iples of risk assessment and risk management (RM). When properly applied, t
 hese principles will help mitigate accident causal factors associated with 
 common pilot errors, lack of proficiency, and faulty knowledge. The Federal
  Aviation Administration (FAA) purpose is to encourage the majority of GA p
 ilots, through WINGS, to engage in ongoing, targeted flying tasks and learn
 ing activities keyed to identified risks and which are designed to mitigate
  those risks. Pilot airspace deviations continue to be a major risk in the 
 national airspace system. To reduce the chance that you might be involved i
 n an airspace deviation incident, you are highly encouraged to take an on-l
 ine learning center course on https://www.faasafety.gov.&nbsp; Or, search t
 he learning library for associated guidance on airspace incursions. Remembe
 r, safe and prudent airmen have superior situational awareness and have a p
 lan to keep it that way.&nbsp;\nEqual Access Information:The FAA Safety Tea
 m (FAASTeam) is committed to providing equal access to this meeting/event f
 or all participants. If you need alternative formats or services because of
  a disability, please communicate your request as soon as possible with the
  person in the “Contact Information” area of the meeting/event notice. Note
  that two weeks is usually required to arrange services.Credit Applicabilit
 y:1 Credit for Basic Knowledge Topic 31 Credit for Advanced Knowledge Topic
  2
CONTACT:Cary B. Grant Phone: 602-705-6605 This email address is being protected from spambots. You need JavaScript enabled to view it.
				document.getElementById('cloak78a0f6db2df247a9d90439bf2616899f').innerHTML = '';
				var prefix = '&#109;a' + 'i&#108;' + '&#116;o';
				var path = 'hr' + 'ef' + '=';
				var addy78a0f6db2df247a9d90439bf2616899f = 'gr&#97;ntc3' + '&#64;';
				addy78a0f6db2df247a9d90439bf2616899f = addy78a0f6db2df247a9d90439bf2616899f + '&#101;r&#97;&#117;' + '&#46;' + '&#101;d&#117;';
				var addy_text78a0f6db2df247a9d90439bf2616899f = 'gr&#97;ntc3' + '&#64;' + '&#101;r&#97;&#117;' + '&#46;' + '&#101;d&#117;';document.getElementById('cloak78a0f6db2df247a9d90439bf2616899f').innerHTML += ''+addy_text78a0f6db2df247a9d90439bf2616899f+'';
		
DTSTAMP:20260421T065303Z
DTSTART;TZID=America/Phoenix:20250925T180000
SEQUENCE:0
TRANSP:OPAQUE
END:VEVENT
END:VCALENDAR