BEGIN:VCALENDAR
VERSION:2.0
PRODID:-//jEvents 2.0 for Joomla//EN
CALSCALE:GREGORIAN
METHOD:PUBLISH
BEGIN:VEVENT
UID:420cde046dfe4ee20f886d50e0ec296b
CATEGORIES:Safety
CREATED:20260211T090005
SUMMARY:VMC Club Monthly Meeting - EAA Chapter 1445 at Chandler - All Pilot Welcome - No Membership Required
LOCATION:Chandler Municipal Airport Terminal Meeting Room 2380 S Stinson Way Chandle
 r, AZ 85286
DESCRIPTION;ENCODING=QUOTED-PRINTABLE:VMC Club Monthly Meeting - EAA Chapter 1445 - All Pilot Welcome - No Member
 ship RequiredAviation Weather Hazards For Arizona And The SouthwestDate and
  Time: Tuesday, March 3, 2026, starting at 18:30 ArizonaSpeaker(s): Christo
 pher DunnBrief Description:Guest Speaker Christopher Dunn, KPNX-TV/12NEWS P
 HOENIX CFI&nbsp;- CFI-I &amp; CERTIFIED BROADCAST METEOROLOGIST will give a
  presentation on Aviation Weather Hazards&nbsp;\nThe EAA VMC Club provides 
 a "hangar flying" experience organized around visual&nbsp;flight, in order 
 to promote safety, education, and proficiency.\nEvery meeting consists of a
  scenario presentation and group discussion about unusual or interesting ch
 arts, changed rules and&nbsp;procedures, and&nbsp;member experiences. &nbsp
 ;We also have&nbsp;occasional guest speakers.\nBring your EFB, your experie
 nce, and your questions, and be ready to participate.\nAll are welcome. &nb
 sp;You do not need to be an EAA member to attend\nWe will also be discussin
 g how you can earn&nbsp;WINGS&nbsp;Credit.\nSelect Number: WP07141463Locati
 on of Seminar:Chandler Municipal Airport Terminal Meeting Room\n2380 S Stin
 son Way\nChandler, AZ&nbsp;85286Directions to Venue:\n\nPark in front of th
 e main terminal building. Entrance to the meeting room is from the outside 
 on the left side of the main terminal door. From the ramp, entrance is thro
 ugh the main terminal doors. Meeting room door is on the far right side of 
 the lobby.&nbsp;\nView MapFly-in Seminar?: Yes&nbsp;&nbsp;KCHDSeating: 90 s
 eats at the facilityRegistration Information:&nbsp;Click here to register o
 nline now!Sponsoring Division: FAA Safety TeamContact Information:Alexander
  Peña\nPhone: 000-000-0000 (email only)\nThis email address is being protec
 ted from spambots. You need JavaScript enabled to view it.
				document.get
 ElementById('cloakda3db0c39cef2e5bf9e454e95ab0f15f').innerHTML = '';
				va
 r prefix = '&#109;a' + 'i&#108;' + '&#116;o';
				var path = 'hr' + 'ef' + 
 '=';
				var addyda3db0c39cef2e5bf9e454e95ab0f15f = '&#97;zvmccl&#117;b' + 
 '&#64;';
				addyda3db0c39cef2e5bf9e454e95ab0f15f = addyda3db0c39cef2e5bf9e
 454e95ab0f15f + '&#105;cl&#111;&#117;d' + '&#46;' + 'c&#111;m';
				var add
 y_textda3db0c39cef2e5bf9e454e95ab0f15f = '&#97;zvmccl&#117;b' + '&#64;' + '
 &#105;cl&#111;&#117;d' + '&#46;' + 'c&#111;m';document.getElementById('cloa
 kda3db0c39cef2e5bf9e454e95ab0f15f').innerHTML += ''+addy_textda3db0c39cef2e
 5bf9e454e95ab0f15f+'';
		Additional Event Information &amp; Acknowledgement
  of Industry Sponsor(s):This event is sponsored and hosted by the&nbsp;Loca
 l EAA/VMC-IMC Club and the FAA Safety Team.\nThank you to the City of Chand
 ler and Chandler Municipal Airport for their support and use of the termina
 l meeting room.\nThank you to the Arizona Pilots Association&nbsp;\nWhat is
  the EAA/VMC Club?&nbsp;\nEAA provides monthly program resources in the for
 m of actual VMC related scenarios designed to encourage open discussion, an
 d for all participants to answer the question “What would you do if this ha
 ppened to you?”&nbsp;\nWhat is the purpose of EAA/VMC Club?\nThe purpose of
  EAA Visual Meteorological Conditions (VMC) Clubs is to promote flying, pro
 ficiency, and safety. The intent is to create a community of pilots willing
  to share information, provide recognition, foster communications, promote 
 safety, and build proficiency in&nbsp;flying.\nEAA VMC Clubs are extensions
  to local EAA chapters and offer monthly VMC program meetings where pilots 
 can network and share knowledge and experiences.&nbsp;\nDo you need to brin
 g anything?\nFirst, bring your thoughts or story and be willing to share th
 em with the group. &nbsp;This meeting is very interactive. &nbsp;Participat
 ion by the group is a&nbsp;fundamental&nbsp;element to the EAA/VMC Club mee
 ting.\nOthers have found it helpful to bring along a copy of their flight m
 anual, GPS manual, and charts. &nbsp;If you navigate with an iPad, bring it
  along.\nWho can attend?\nThis meeting is open to all current, non-current,
  and future&nbsp;pilots.\nClick here for more information about EAA VMC Clu
 bs.\nNote:You are welcome to attend the IMC Meeting which immediately follo
 ws the VMC presentation. Separate registration is required.\nPlease use the
  following link to register\nSeparate reqestration required for IMC meeting
 . See following link\n&nbsp;IMC Registration Link\nEqual Access Information
 :The FAA Safety Team (FAASTeam) is committed to providing equal access to t
 his meeting/event for all participants. If you need alternative formats or 
 services because of a disability, please communicate your request as soon a
 s possible with the person in the “Contact Information” area of the meeting
 /event notice. Note that two weeks is usually required to arrange services.
 Credit Applicability:½ Credit for Advanced Knowledge Topic 2½ Credit for Ma
 ster Knowledge Topic 1
CONTACT:Alexander Peña Phone: 000-000-0000 (email only) This email address is being protected from spambots. You need JavaScript enabled to view it.
				document.getElementById('cloak5b3377c311923edd0b65d1ed410a10be').innerHTML = '';
				var prefix = '&#109;a' + 'i&#108;' + '&#116;o';
				var path = 'hr' + 'ef' + '=';
				var addy5b3377c311923edd0b65d1ed410a10be = '&#97;zvmccl&#117;b' + '&#64;';
				addy5b3377c311923edd0b65d1ed410a10be = addy5b3377c311923edd0b65d1ed410a10be + '&#105;cl&#111;&#117;d' + '&#46;' + 'c&#111;m';
				var addy_text5b3377c311923edd0b65d1ed410a10be = '&#97;zvmccl&#117;b' + '&#64;' + '&#105;cl&#111;&#117;d' + '&#46;' + 'c&#111;m';document.getElementById('cloak5b3377c311923edd0b65d1ed410a10be').innerHTML += ''+addy_text5b3377c311923edd0b65d1ed410a10be+'';
		
DTSTAMP:20260420T013820Z
DTSTART;TZID=America/Phoenix:20260303T183000
SEQUENCE:0
TRANSP:OPAQUE
END:VEVENT
END:VCALENDAR