BEGIN:VCALENDAR
VERSION:2.0
PRODID:-//jEvents 2.0 for Joomla//EN
CALSCALE:GREGORIAN
METHOD:PUBLISH
BEGIN:VEVENT
UID:5f178e6b055a9716a3f3bd2a038fd806
CATEGORIES:Meetings
CREATED:20260213T104741
SUMMARY:Annual Members Meeting
LOCATION:Highlands Church, 9050 E. Pinnacle Peak Road, near KSDL
DESCRIPTION;ENCODING=QUOTED-PRINTABLE:\n\n&nbsp;\n\n\n&nbsp;\nAPA Annual Members Meeting\nMay 16, 2025&nbsp;\nSco
 ttsdale, AZ\n\n\n&nbsp;\n\n\nOur annual membership meeting is scheduled for
  Saturday May 16, so please mark your calendars and save&nbsp;the date. The
  meeting will be held at Highlands Church, 9050 E. Pinnacle Peak Road, near
  KSDL. \n\n\nWe have a&nbsp;full agenda lined up and we’ll have some great 
 door prizes as well. We’ll be getting the meeting specifics out to&nbsp;you
  beforehand, and we look forward to seeing you there!\n\n\n\nFly Safe,\nChr
 is\n
CONTACT:This email address is being protected from spambots. You need JavaScript enabled to view it.
				document.getElementById('cloak15cc627dd94485edfe53ec41da4698e3').innerHTML = '';
				var prefix = '&#109;a' + 'i&#108;' + '&#116;o';
				var path = 'hr' + 'ef' + '=';
				var addy15cc627dd94485edfe53ec41da4698e3 = 'chr&#105;s' + '&#64;';
				addy15cc627dd94485edfe53ec41da4698e3 = addy15cc627dd94485edfe53ec41da4698e3 + '&#97;zp&#105;l&#111;ts' + '&#46;' + '&#111;rg';
				var addy_text15cc627dd94485edfe53ec41da4698e3 = 'chr&#105;s' + '&#64;' + '&#97;zp&#105;l&#111;ts' + '&#46;' + '&#111;rg';document.getElementById('cloak15cc627dd94485edfe53ec41da4698e3').innerHTML += ''+addy_text15cc627dd94485edfe53ec41da4698e3+'';
		
DTSTAMP:20260424T122105Z
DTSTART;TZID=America/Phoenix:20260516T090000
DTEND;TZID=America/Phoenix:20260516T000000
SEQUENCE:0
TRANSP:OPAQUE
END:VEVENT
END:VCALENDAR