BEGIN:VCALENDAR
VERSION:2.0
PRODID:-//jEvents 2.0 for Joomla//EN
CALSCALE:GREGORIAN
METHOD:PUBLISH
BEGIN:VEVENT
UID:74ea1b68e08a953223896eed40c01349
CATEGORIES:Meetings
CREATED:20130508T143937
SUMMARY:Monthly BOD Meeting
LOCATION:Scottsdale, AZ or Online
DESCRIPTION;ENCODING=QUOTED-PRINTABLE:\n\nAPA monthly board meetings are the second Tuesday of each month.\n\n\nM
 eetings are open to any members that would like to attend, just contact&nbs
 p;This email address is being protected from spambots. You need JavaScript 
 enabled to view it.
				document.getElementById('cloakeb5f0366ab64dc6c8515b
 e75de59342f').innerHTML = '';
				var prefix = '&#109;a' + 'i&#108;' + '&#1
 16;o';
				var path = 'hr' + 'ef' + '=';
				var addyeb5f0366ab64dc6c8515be
 75de59342f = 't&#101;th&#111;m&#97;s&#111;n' + '&#64;';
				addyeb5f0366ab6
 4dc6c8515be75de59342f = addyeb5f0366ab64dc6c8515be75de59342f + '&#97;zp&#10
 5;l&#111;ts' + '&#46;' + '&#111;rg';
				var addy_texteb5f0366ab64dc6c8515b
 e75de59342f = 'T&#111;mmy Th&#111;m&#97;s&#111;n';document.getElementById('
 cloakeb5f0366ab64dc6c8515be75de59342f').innerHTML += ''+addy_texteb5f0366ab
 64dc6c8515be75de59342f+'';
		 for the meeting location.\n
CONTACT:Tommy Thomason This email address is being protected from spambots. You need JavaScript enabled to view it.
				document.getElementById('cloakb02b936ae1faa2adf6f61f913142e199').innerHTML = '';
				var prefix = '&#109;a' + 'i&#108;' + '&#116;o';
				var path = 'hr' + 'ef' + '=';
				var addyb02b936ae1faa2adf6f61f913142e199 = 't&#101;th&#111;m&#97;s&#111;n' + '&#64;';
				addyb02b936ae1faa2adf6f61f913142e199 = addyb02b936ae1faa2adf6f61f913142e199 + '&#97;zp&#105;l&#111;ts' + '&#46;' + '&#111;rg';
				var addy_textb02b936ae1faa2adf6f61f913142e199 = 't&#101;th&#111;m&#97;s&#111;n' + '&#64;' + '&#97;zp&#105;l&#111;ts' + '&#46;' + '&#111;rg';document.getElementById('cloakb02b936ae1faa2adf6f61f913142e199').innerHTML += ''+addy_textb02b936ae1faa2adf6f61f913142e199+'';
		 602-708-2040
DTSTAMP:20260419T193448Z
DTSTART;TZID=America/Phoenix:20261013T180000
SEQUENCE:0
TRANSP:OPAQUE
END:VEVENT
END:VCALENDAR