BEGIN:VCALENDAR
VERSION:2.0
PRODID:-//jEvents 2.0 for Joomla//EN
CALSCALE:GREGORIAN
METHOD:PUBLISH
BEGIN:VEVENT
UID:54786acd79839a8d3ab6c84b3ff2bc89
CATEGORIES:Safety
CREATED:20251203T130451
SUMMARY:Mid-Air Collision Avoidance on Nevada Test and Training Range at Kingman
LOCATION:Kingman EAA Facility 4560 Flightline Dr. Kingman, AZ 86401
DESCRIPTION;ENCODING=QUOTED-PRINTABLE:Mid-Air Collision Avoidance on Nevada Test and Training RangeHow ATC Can As
 sist you In Navigating Safely Through or Around Military Operations AreasDa
 te and Time: Saturday, December 6, 2025, starting at 10:00 Mountain Standar
 d TimeSpeaker(s): LT Col Tyler Blasdel, MAJ Shannon Smith, MSGT Rick Spaldi
 ng, Rich Johnson ATC, MSGT Nicholas TornowBrief Description:Nellis &amp; Lu
 ke Air Force Base&nbsp;Airspace Safety Teams providing outreach information
  to users of&nbsp;general aviation airports within 100 nm of Nevada test an
 d training range (NTTR) &amp; Luke Air Force Base&nbsp;Military Operations 
 Areas. Discussion will include nature of Special Use Airspace (SUA),&nbsp;a
 nd how to safely navigate in and around the SUA. USAF&nbsp;rated pilots &am
 p; ATC&nbsp;controllers will be in attendance to answer your flying &amp; A
 TC&nbsp;related questions.&nbsp; Team will discuss:\n\n - Military flight o
 perations in Nevada test &amp; training range &amp; Gladden/Bagdad&nbsp;MOA
 S&nbsp;\n - Local special use airspace &amp; military training routes\n - M
 ilitary helicopter operations areas\n - Remotely piloted aircraft &amp; dro
 ne operations\n - High density traffic areas around Nellis&nbsp;Air Force B
 ase, Las&nbsp;Vegas, phoenix\n - ATC services available from United Stated 
 Air Force controllers\n - How to talk to ATC&nbsp;&amp; safely navigate aro
 und active SUA/airspace\n - Keys to avoiding mid-air collisionsSelect Numbe
 r: WP19140541Location of Seminar:Kingman EAA Facility\n4560 Flightline Dr.\
 nKingman, AZ&nbsp;86401Directions to Venue:Exit i-93 @ Andy Devine&nbsp;Rd;
  proceed northeast; exit @ E Mojave&nbsp;Airport Dr; proceed east; turn rig
 ht at Kingman Airport Café onto Flightline&nbsp;Dr, EAA&nbsp;bldg 1/2 mile 
 down on left hand side.\nFly-in Seminar?: Yes&nbsp;&nbsp;KIGMSeating: 50 se
 ats at the facilityRegistration Information:&nbsp;Click here to register on
 line now!Sponsoring Division: Las Vegas FAASTeamContact Information:TROY SI
 EKAS\nPhone: (612) 253-4513\nThis email address is being protected from spa
 mbots. You need JavaScript enabled to view it.
				document.getElementById(
 'cloakeffe987d460c588c682cbd05fda15000').innerHTML = '';
				var prefix = '
 &#109;a' + 'i&#108;' + '&#116;o';
				var path = 'hr' + 'ef' + '=';
				var
  addyeffe987d460c588c682cbd05fda15000 = 'tr&#111;y.s&#105;&#101;k&#97;s' + 
 '&#64;';
				addyeffe987d460c588c682cbd05fda15000 = addyeffe987d460c588c682
 cbd05fda15000 + 'f&#97;&#97;' + '&#46;' + 'g&#111;v';
				var addy_texteffe
 987d460c588c682cbd05fda15000 = 'tr&#111;y.s&#105;&#101;k&#97;s' + '&#64;' +
  'f&#97;&#97;' + '&#46;' + 'g&#111;v';document.getElementById('cloakeffe987
 d460c588c682cbd05fda15000').innerHTML += ''+addy_texteffe987d460c588c682cbd
 05fda15000+'';
		Additional Event Information &amp; Acknowledgement of Indu
 stry Sponsor(s):Thank you to the&nbsp;Nellis &amp; Luke Air Force Base&nbsp
 ;Airspace Safety Teams and EAA for hosting&nbsp;this event.\nEqual Access I
 nformation:The FAA Safety Team (FAASTeam) is committed to providing equal a
 ccess to this meeting/event for all participants. If you need alternative f
 ormats or services because of a disability, please communicate your request
  as soon as possible with the person in the “Contact Information” area of t
 he meeting/event notice. Note that two weeks is usually required to arrange
  services.Credit Applicability:1 Credit for Basic Knowledge Topic 3
CONTACT:TROY SIEKAS Phone: (612) 253-4513 This email address is being protected from spambots. You need JavaScript enabled to view it.
				document.getElementById('cloaka7cb88f0351181eb95d89f36ea0a28aa').innerHTML = '';
				var prefix = '&#109;a' + 'i&#108;' + '&#116;o';
				var path = 'hr' + 'ef' + '=';
				var addya7cb88f0351181eb95d89f36ea0a28aa = 'tr&#111;y.s&#105;&#101;k&#97;s' + '&#64;';
				addya7cb88f0351181eb95d89f36ea0a28aa = addya7cb88f0351181eb95d89f36ea0a28aa + 'f&#97;&#97;' + '&#46;' + 'g&#111;v';
				var addy_texta7cb88f0351181eb95d89f36ea0a28aa = 'tr&#111;y.s&#105;&#101;k&#97;s' + '&#64;' + 'f&#97;&#97;' + '&#46;' + 'g&#111;v';document.getElementById('cloaka7cb88f0351181eb95d89f36ea0a28aa').innerHTML += ''+addy_texta7cb88f0351181eb95d89f36ea0a28aa+'';
		
DTSTAMP:20260419T194136Z
DTSTART;TZID=America/Phoenix:20251206T100000
SEQUENCE:0
TRANSP:OPAQUE
END:VEVENT
END:VCALENDAR